BEGIN:VCALENDAR
VERSION:2.0
PRODID:-//iCertify Training
CALSCALE:GREGORIAN
METHOD:PUBLISH
X-WR-CALNAME:iCertify Training
X-ORIGINAL-URL:https://www.icertifytraining.com/event/agile_scrum_intro-2/
X-WR-CALDESC:Introduction to Agile and Scrum Copy
BEGIN:VEVENT
DTSTART:20160304T100000
DTEND:20160304T103000
SUMMARY:Introduction to Agile and Scrum Copy
DESCRIPTION:
LOCATION:https://join.me/icertifytraining
END:VEVENT
END:VCALENDAR
