BEGIN:VCALENDAR
VERSION:2.0
PRODID:-//iCertify Training
CALSCALE:GREGORIAN
METHOD:PUBLISH
X-WR-CALNAME:iCertify Training
X-ORIGINAL-URL:https://www.icertifytraining.com/event/agile_methodologies_intro/
X-WR-CALDESC:Overview of Agile Methodologies
BEGIN:VEVENT
DTSTART:20160318T100000
DTEND:20160318T103000
SUMMARY:Overview of Agile Methodologies
DESCRIPTION:
LOCATION:https://join.me/icertifytraining
END:VEVENT
END:VCALENDAR
